BEGIN:VCALENDAR
VERSION:2.0
PRODID:-//inFusion - ECPv6.13.1//NONSGML v1.0//EN
CALSCALE:GREGORIAN
METHOD:PUBLISH
X-ORIGINAL-URL:https://if.equality.agency
X-WR-CALDESC:Events for inFusion
REFRESH-INTERVAL;VALUE=DURATION:PT1H
X-Robots-Tag:noindex
X-PUBLISHED-TTL:PT1H
BEGIN:VTIMEZONE
TZID:UTC
BEGIN:STANDARD
TZOFFSETFROM:+0000
TZOFFSETTO:+0000
TZNAME:UTC
DTSTART:20250101T000000
END:STANDARD
END:VTIMEZONE
BEGIN:VEVENT
DTSTART;TZID=UTC:20250615T110000
DTEND;TZID=UTC:20250615T190000
DTSTAMP:20260421T171930
CREATED:20250523T144654Z
LAST-MODIFIED:20250526T195451Z
UID:23883-1749985200-1750014000@if.equality.agency
SUMMARY:ПИКНИК ЗА ДРУШТВЕНИ ИГРИ
DESCRIPTION:Во рамки на inFusion – 4. Фестивал на инклузија\, на 14 и 15 јуни\, ве покануваме на незаборавен Пикник за друштвени игри\, кој ќе се одржи во зелената и пријатна атмосфера на Паркот Македонија. \nВреме за одмор\, релаксација и квалитетно дружење со блиските и пријателите. Донесете ги вашите омилени друштвени игри\, прострете ќебе на тревата и уживајте во позитивна атмосфера. За оние што сакаат да пробаат нешто ново – во паркот ќе можете да се запознаете со уникатни и креативни игри од локални производители. \nРазменете игри\, споделете смеа\, и создадете нови пријателства! \n15.06.2025г. | 11:00 до 19:00 часот \nПарк Македонија\, Општина Кисела Вода \nПристапност:\n            
URL:https://if.equality.agency/event/%d0%bf%d0%b8%d0%ba%d0%bd%d0%b8%d0%ba-%d0%b7%d0%b0-%d0%b4%d1%80%d1%83%d1%88%d1%82%d0%b2%d0%b5%d0%bd%d0%b8-%d0%b8%d0%b3%d1%80%d0%b8-2/
LOCATION:Македонија
CATEGORIES:Chill
ATTACH;FMTTYPE=image/jpeg:https://if.equality.agency/wp-content/uploads/2025/05/PIKNIK-22222-scaled.jpg
END:VEVENT
BEGIN:VEVENT
DTSTART;TZID=UTC:20250615T130000
DTEND;TZID=UTC:20250615T150000
DTSTAMP:20260421T171930
CREATED:20250523T144403Z
LAST-MODIFIED:20250526T195424Z
UID:23877-1749992400-1749999600@if.equality.agency
SUMMARY:INFUSION SPORT - ИНТЕГРАТИВНИ СПОРТСКИ И РЕКРЕАТИВНИ АКТИВНОСТИ
DESCRIPTION:На 15 јуни 2025г. во Парк Македонија (Општина Кисела Вода) во периодот од 13 до 15 часот\, посетителите на inFusion –  4. Фестивал на инклузија ќе имаат можност да учествуваат во разновидна програма која ќе поттикне соработка\, забава и вмрежување\, преку создавње на пријатна и позитивна атмосфера за сите. \nОвие активности се наменети за забава и рекреација\, а посетителите ќе имаат можност да се вклучат во различни спортски игри\, да се дружат и запознаат меѓусебно. \nПосетителите ќе имаат можност активно да се вклучат во низа забавни и лесно достапни спортски предизвици\, без разлика на возраст\, физичка подготвеност или способност. Програмата која опфаќа кошарка\, пинг-понг\, мини-голф\, куглање и разни други рекреативни содржини ќе создаде заедничко пространство каде преку спорт и рекреација се рушат бариери и се гради дух на солидарност\, еднаквост и соработка. \nПристапност:\n            
URL:https://if.equality.agency/event/infusion-sport-%d0%b8%d0%bd%d1%82%d0%b5%d0%b3%d1%80%d0%b0%d1%82%d0%b8%d0%b2%d0%bd%d0%b8-%d1%81%d0%bf%d0%be%d1%80%d1%82%d1%81%d0%ba%d0%b8-%d0%b8-%d1%80%d0%b5%d0%ba%d1%80%d0%b5%d0%b0%d1%82%d0%b8%d0%b2/
LOCATION:ПАРК МАКЕДОНИЈА\, Frank Harkort Maning\, Skopje 1000\, СКОПЈЕ\, Македонија
CATEGORIES:Спорт
ATTACH;FMTTYPE=image/jpeg:https://if.equality.agency/wp-content/uploads/2025/05/СПОРТ-scaled.jpg
ORGANIZER;CN="%D0%97%D0%94%D0%A0%D0%A3%D0%96%D0%95%D0%9D%D0%98%D0%95 %D0%98%D0%9A%D0%A3%D0%90%D0%9B%D0%98%D0%A2%D0%98":MAILTO:equalityskopje@gmail.com
END:VEVENT
BEGIN:VEVENT
DTSTART;TZID=UTC:20250615T170000
DTEND;TZID=UTC:20250615T190000
DTSTAMP:20260421T171930
CREATED:20250523T144942Z
LAST-MODIFIED:20250603T092546Z
UID:23889-1750006800-1750014000@if.equality.agency
SUMMARY:ФОРУМ: (НЕ)ПРИСТАПЕН ГРАД?
DESCRIPTION:inFusion Форумите претставуваат суштински сегмент на inFusion – 4. Фестивал на инклузија\, како инклузивна платформа за конструктивен дијалог\, критичка мисла и општествени препораки. Форумите ќе обединат родители\, млади\, лица со попреченост\, активисти\, стручни лица и претставници на институции\, во заедничка мисија за отворена дискусија за предизвиците и можностите за подобрување на квалитетот на животот на лицата со попреченост. \nВо три последователни денови од 12 до 15 јуни\, ќе се реализираат тематски форумски сесии. \n  \nФОРУМ: (Не)пристапен град? \nДали пристапност „колку-толку“ е пристапност во целина? \nШто му значи на едно лице во количка рампата пред влезот на зградата\, ако во неа нема лифт? \nШто му значи на едно слепо лице звучната сигнализација од семафорот\, ако низ градот нема тактилни патеки по кои би можел сигурно да се движи. \nКолку архитектите и службите за урбанизам и просторно планирање ги имаат на ум потребите на лицата со попреченост\, додека урбанистички се менува лицето на градот? \n15 јуни | 17:00 – 19:00 часот\nПарк Македонија\, Општина Кисела Вода \n  \n*ОТВОРЕН ПОВИК ЗА УЧЕСТВО* \nЗдружението Икуалити го отвора повикот за пријавување на заинтересирани струни лица\, родители и организации да бидат дел од  inFusion Форум зоната во рамки на  inFUSION –  4. Фестивал на инклузија кој ќе се одржи од 11 до 15 јуни 2025 год. во Парк Македонија (Општина Кисела Вода). \nУСЛОВИ ЗА УЧЕСТВО \n-родители\, старатели\, асистенти и лица со попреченост \n-организации и поединци кои делуваат во областа на работа со лица со попречености \n–стручни лица вклучени во образование\, здравство и социјална заштита \n–организации и поединци со општествено одговорни мисии \nШТО ДОБИВАТЕ? \nПреку учество во форумските сесии\, ќе добиете можност: \n– Да ги споделите вашите ставови\, искуства и препораки за решенија за предизвиците со кои се соочуваат лицата со попреченост; \n– Да учествувате во дискусии за институционалната поддршка\, пристапноста и вклученоста во заедницата; \n– Да придонесете кон создавање препораки и можности за подобрување на квалитетот на животот на лицата со попреченост; \n– Да се вмрежите со други чинители и да остворите можности за идна соработка кон поинклузивна иднина. \nКАКО ДА УЧЕСТВУВАТЕ? \nПријавете се преку формата подолу или на електронска пошта: equalityskopje@gmail.com  со посочување на име\, презиме\, контакт број\, кратка биографија и наслов на форумите во кој би сакале да учествувате. \n  \nКраен рок за пријавување е заклучно со 06 јуни 2025 година. \nПристапност:\n                 \n  \nПРИЈАВИ СЕ!\n\n\n  \n\n\n\n\n\n\n\n\n\n\n	\n		\n			\n			 \n		\n		\n			\n			 \n		\n	\n	\n		\n			\n			 \n		\n		\n			\n			 \n		\n	\n	\n		\n			📎 Прикачи кратка биографија\n\n			 \n		\n	\n	Се согласувам моите податоци да бидат собрани и зачувани.\n	 \n\n\n\n \n 
URL:https://if.equality.agency/event/%d1%84%d0%be%d1%80%d1%83%d0%bc-%d0%bd%d0%b5%d0%bf%d1%80%d0%b8%d1%81%d1%82%d0%b0%d0%bf%d0%b5%d0%bd-%d0%b3%d1%80%d0%b0%d0%b4/
LOCATION:ПАРК МАКЕДОНИЈА\, Frank Harkort Maning\, Skopje 1000\, СКОПЈЕ\, Македонија
CATEGORIES:Повици,Форум
ATTACH;FMTTYPE=image/jpeg:https://if.equality.agency/wp-content/uploads/2025/05/НЕ-ПРИСТАПЕН-ГРАД-scaled.jpg
ORGANIZER;CN="%D0%97%D0%94%D0%A0%D0%A3%D0%96%D0%95%D0%9D%D0%98%D0%95 %D0%98%D0%9A%D0%A3%D0%90%D0%9B%D0%98%D0%A2%D0%98":MAILTO:equalityskopje@gmail.com
END:VEVENT
BEGIN:VEVENT
DTSTART;TZID=UTC:20250615T190000
DTEND;TZID=UTC:20250615T200000
DTSTAMP:20260421T171930
CREATED:20250523T145108Z
LAST-MODIFIED:20250527T094039Z
UID:23892-1750014000-1750017600@if.equality.agency
SUMMARY:ЗАТВОРАЊЕ НА ФЕСТИВАЛОТ
DESCRIPTION:
URL:https://if.equality.agency/event/%d0%b7%d0%b0%d1%82%d0%b2%d0%be%d1%80%d0%b0%d1%9a%d0%b5-%d0%bd%d0%b0-%d1%84%d0%b5%d1%81%d1%82%d0%b8%d0%b2%d0%b0%d0%bb%d0%be%d1%82/
LOCATION:Македонија
CATEGORIES:Фестивал
ATTACH;FMTTYPE=image/jpeg:https://if.equality.agency/wp-content/uploads/2025/05/ЗАТВОРАЊЕ-scaled.jpg
END:VEVENT
END:VCALENDAR