BEGIN:VCALENDAR
VERSION:2.0
PRODID:-//inFusion - ECPv6.13.1//NONSGML v1.0//EN
CALSCALE:GREGORIAN
METHOD:PUBLISH
X-WR-CALNAME:inFusion
X-ORIGINAL-URL:https://if.equality.agency
X-WR-CALDESC:Events for inFusion
REFRESH-INTERVAL;VALUE=DURATION:PT1H
X-Robots-Tag:noindex
X-PUBLISHED-TTL:PT1H
BEGIN:VTIMEZONE
TZID:UTC
BEGIN:STANDARD
TZOFFSETFROM:+0000
TZOFFSETTO:+0000
TZNAME:UTC
DTSTART:20250101T000000
END:STANDARD
END:VTIMEZONE
BEGIN:VEVENT
DTSTART;TZID=UTC:20250611T180000
DTEND;TZID=UTC:20250611T190000
DTSTAMP:20260419T152547
CREATED:20250523T130250Z
LAST-MODIFIED:20250604T081214Z
UID:23796-1749664800-1749668400@if.equality.agency
SUMMARY:ТАНЦОВ ПЕРФОРМАНС „SKIN"
DESCRIPTION:Уникатниот танцов перформанс со кој австралиско-германското дуо SKIN го освојува светот\, ќе го види и Македонија\, на inFusion – 4. Фестивал на инклузија. \nИзведбата на Роланд Валтер\, танчар со спастична парализа на целото тело и Рене Шадлер\, танчарка и кореографка без попреченост\, создава свој универзум во кој нивните две различни тела можат да се приближат едно до друго. Овој интимен дует ги надминува физичките граници на изведувачите и наоѓа заеднички јазик на движење. \nСекое тело има свој идентитет кога станува збор за кожата. Текстурата на кожата постојано се менува и трансформира преку контакт со другите. SKIN истражува нови начини на меѓусебно поврзување\, продлабочувајќи ја нашата способност да се движиме помеѓу различни видови искуства и физички го прикажува начинот на кој нашата околина нè обликува и е обликувана од нас. \nОвој настан е најава за 5 возбудливи\, интригантни и незаборавни фестивалски денови. \nКонцепт\, Изведба: Рене Шадлер\, Роланд Валтер (Renae Shadler\, Roland Walter)\nУметнички директор\, Кореограф: Рене Шадлер (Renae Shadler)\nДизајн на звук: Самуел Херц (Samuel Hertz)\nСценографија и костимографија: Јудит Ферстер (Judith Förster)\nДизајн на светло: Емеше Чорнаи (Emese Csornai)\nТехничар за светло: Ји-Џу Чу (Yi-Ju Chou)\nКреативен асистент: Мирјам Зегнер (Mirjam Sögner)\nПродукција: ерлихе арбајт – канцеларија за култура на фриленсери (ehrliche arbeit – freelance office for culture)\nДистрибуција: Дерте Волтер (Dörte Wolter)\nАдминистрација и тур менаџмент на Perform Europe: Ранија Маврики (Rania Mavriki) \nОваа презентација се одржува со поддршка на Perform Europe како дел од проектот „Танцување со ексцес“. \n  \nPerform Europe\, поддржан од Европската унија\, е финансиска програма наменета за европскиот сектор на изведувачки уметности. Таа овозможува меѓународно поврзување и поддржува инклузивни\, разновидни и еколошки одржливи турнејски проекти низ 40-те земји учеснички во програмата Креативна Европа. Perform Europe става акцент на практики втемелени во одржливост и инклузивност\, со цел трансформирање на секторот на изведувачки уметности и обезбедување рамномерна дистрибуција низ континентот. \nPerform Europe е кофинансиран од програмата Креативна Европа на Европската унија и се спроведува од страна на конзорциум од шест организации: IETM – Меѓународна мрежа за современи изведувачки уметности\, Европска асоцијација на фестивали (EFA)\, Circostrada\, Европска мрежа за развој на танцот\, Pearle – Живи изведби Европа и IDEA Consult. \nПристапност:\n        \n 
URL:https://if.equality.agency/event/%d1%82%d0%b0%d0%bd%d1%86%d0%be%d0%b2-%d0%bf%d0%b5%d1%80%d1%84%d0%be%d1%80%d0%bc%d0%b0%d0%bd%d1%81-skin/
LOCATION:ТЕАТАР КОМЕДИЈА\, Blvd. Saint Clement of Ohrid 25\, Skopje 1000\, СКОПЈЕ\, Македонија
CATEGORIES:Перформанс,Театар
ATTACH;FMTTYPE=image/jpeg:https://if.equality.agency/wp-content/uploads/2025/05/DEN-1-scaled.jpg
ORGANIZER;CN="%D0%97%D0%94%D0%A0%D0%A3%D0%96%D0%95%D0%9D%D0%98%D0%95 %D0%98%D0%9A%D0%A3%D0%90%D0%9B%D0%98%D0%A2%D0%98 %D0%98 SKIN":MAILTO:equalityskopje@gmail.com
END:VEVENT
BEGIN:VEVENT
DTSTART;TZID=UTC:20250520T190000
DTEND;TZID=UTC:20250605T200000
DTSTAMP:20260419T152547
CREATED:20250527T153836Z
LAST-MODIFIED:20250527T155214Z
UID:25152-1747767600-1749153600@if.equality.agency
SUMMARY:ОТВОРЕН ПОВИК ЗА ВОЛОНТЕРИ НА INFUSION ФЕСТИВАЛ
DESCRIPTION:Здружението Икуалити го отвора повикот за пријавување на волонтери за inFusion – 4. Фестивал на инклузија кој ќе се одржи од 11 до 15 јуни 2025 год. во Парк Македонија (Општина Кисела Вода) + 4 локации на територијата на Град Скопје. \n УСЛОВИ ЗА УЧЕСТВО \n–млади ентузијасти на возраст од 18 до 30 години\, со или без попреченост се разбира 🙂 \n-желба за придонес кон заедницата и општествена одговорност \nШТО ВКЛУЧУВА АНГАЖМАНОТ? \nВолонтерскиот ангажман е предвиден за период од 11 до 15 јуни 2025 година и се однесува на учество во: \n–организација и подготовка на фестивалски активностите \n-поддршка за време и по завршување на фестивалските активности \n ШТО ДОБИВАТЕ? \n-унапредување на комуникациски вештини \n-вештини за организација и имплементација на културни и инклузивни настани \n-нови пријателства \n-сертификат за учество и придонес кон успешно спроведување на настанот \nКАКО ДА УЧЕСТВУВАТЕ? \nПријавете се преку формата подолу или на електронска пошта: equalityskopje@gmail.com  со посочување на име\, презиме\, возраст\, контакт број и кратка биографија. \nКраен рок за пријавување е заклучно со 02 јуни 2025 година. \n  \nПРИЈАВИ СЕ!\n\n\n  \n\n\n\n\n\n\n\n\n\n\n	\n		\n			\n			 \n		\n		\n			\n			 \n		\n	\n	\n		\n			\n			 \n		\n		\n			\n			 \n		\n	\n	\n		\n			📎 Прикачи кратка биографија\n\n			 \n		\n	\n	Се согласувам моите податоци да бидат собрани и зачувани.\n	 \n\n\n\n\n 
URL:https://if.equality.agency/event/%d0%bf%d0%be%d0%b2%d0%b8%d0%ba-%d0%b7%d0%b0-%d0%b2%d0%be%d0%bb%d0%be%d0%bd%d1%82%d0%b5%d1%80%d0%b8/
LOCATION:ПАРК МАКЕДОНИЈА\, Frank Harkort Maning\, Skopje 1000\, СКОПЈЕ\, Македонија
CATEGORIES:Волонтери,Повици
ATTACH;FMTTYPE=image/png:https://if.equality.agency/wp-content/uploads/2021/12/Plakat-4-inFusion-sin-scaled.png
ORGANIZER;CN="%D0%97%D0%94%D0%A0%D0%A3%D0%96%D0%95%D0%9D%D0%98%D0%95 %D0%98%D0%9A%D0%A3%D0%90%D0%9B%D0%98%D0%A2%D0%98":MAILTO:equalityskopje@gmail.com
END:VEVENT
END:VCALENDAR