BEGIN:VCALENDAR
VERSION:2.0
PRODID:-//inFusion - ECPv6.13.1//NONSGML v1.0//EN
CALSCALE:GREGORIAN
METHOD:PUBLISH
X-WR-CALNAME:inFusion
X-ORIGINAL-URL:https://if.equality.agency
X-WR-CALDESC:Events for inFusion
REFRESH-INTERVAL;VALUE=DURATION:PT1H
X-Robots-Tag:noindex
X-PUBLISHED-TTL:PT1H
BEGIN:VTIMEZONE
TZID:UTC
BEGIN:STANDARD
TZOFFSETFROM:+0000
TZOFFSETTO:+0000
TZNAME:UTC
DTSTART:20250101T000000
END:STANDARD
END:VTIMEZONE
BEGIN:VEVENT
DTSTART;TZID=UTC:20250615T100000
DTEND;TZID=UTC:20250615T190000
DTSTAMP:20260419T141234
CREATED:20250523T144814Z
LAST-MODIFIED:20250603T092745Z
UID:23886-1749981600-1750014000@if.equality.agency
SUMMARY:INFUSION БАЗАР ЗА СИТЕ - АКТИВИЗАМ\, КУЛТУРА И ГЕЈМИНГ
DESCRIPTION:inFusion Базарот претставува уникатен дел од inFusion – 4. Фестивал на инклузија\, кој претставува платформа која обединува уметници\, креативци\, активисти\, локални компании и организации. Низ 4 фестивалски денови\, ќе се создаде простор за промоција на вредности и општествено одговорни креативци од областа на културата и сферите на општественото живеење\, преку три тематски платформи. \nНа 15 јуни ќе биде одржан тематскиот inFusion Базар за сите – активизам\, култура и гејминг кој ќе ги спои елементите на културата\, гејмингот и општествената одговорност во единствено живописно искуство. Овој базар ќе понуди мултидимензионален простор во рамки на кој посетителите ќе можат да истражат штандови со уметнички ракотворби\, иницијативи на општествено одговорни организации и локални компании со органски производи\, како и да навлезат во светот на гејмингот и да уживаат во презентациите на иновативни игри и гејминг производи од локални произведувачи. \n  \n*ОТВОРЕН ПОВИК ЗА УЧЕСТВО* \nЗдружението Икуалити го отвора повикот за пријавување на заинтересирани креативци и организации да бидат дел од  inFusion Базарот во рамки на  inFusion Фестивалот кој ќе се одржи од 11 до 15 јуни 2025 год. во Парк Македонија (Општина Кисела Вода). \n15.06.2025г. | 10:00 – 19:00 \nПарк Македонија\, Општина Кисела Вода \n  \nУСЛОВИ ЗА УЧЕСТВО \n-индивидуалци – креативци и уметници \n-креативци од заедницата на лица со попречености \n–организации и поединци со општествено одговорни мисии \n–локални бизниси за органски производи \n–локални компании и креатори на игри \nШТО ДОБИВАТЕ? \nАко изработувате рачни изработки и дела\, декоративни предмети\, природни или органски производи\, дигитални и друштвени игри и сакате да ги промовирате вашите иницијативи\, ова е одлична можност да се претставите пред пошироката јавност во инспиративна и инклузивна атмосфера\, во рамки на фестивалските денови од 12 до 15 јуни 2025г.  \nКАКО ДА УЧЕСТВУВАТЕ? \nПријавете се преку формата подолу или на електронска пошта: equalityskopje@gmail.com  со посочување на име\, презиме\, контакт број и кратка биографија. \n  \nКраен рок за пријавување е заклучно со 06 јуни 2025 година. \nПристапност:\n            \n  \nПРИЈАВИ СЕ!\n\n\n  \n\n\n\n\n\n\n\n\n\n\n	\n		\n			\n			 \n		\n		\n			\n			 \n		\n	\n	\n		\n			\n			 \n		\n		\n			\n			 \n		\n	\n	\n		\n			📎 Прикачи кратка биографија\n\n			 \n		\n	\n	Се согласувам моите податоци да бидат собрани и зачувани.\n	 \n\n\n\n \n 
URL:https://if.equality.agency/event/infusion-%d0%b1%d0%b0%d0%b7%d0%b0%d1%80-%d0%b7%d0%b0-%d1%81%d0%b8%d1%82%d0%b5-%d0%b0%d0%ba%d1%82%d0%b8%d0%b2%d0%b8%d0%b7%d0%b0%d0%bc-%d0%ba%d1%83%d0%bb%d1%82%d1%83%d1%80%d0%b0-%d0%b8-%d0%b3%d0%b5/
LOCATION:ПАРК МАКЕДОНИЈА\, Frank Harkort Maning\, Skopje 1000\, СКОПЈЕ\, Македонија
CATEGORIES:Базар,Повици
ATTACH;FMTTYPE=image/jpeg:https://if.equality.agency/wp-content/uploads/2025/05/БАЗАР-ЗА-СИТЕ-scaled.jpg
ORGANIZER;CN="%D0%97%D0%94%D0%A0%D0%A3%D0%96%D0%95%D0%9D%D0%98%D0%95 %D0%98%D0%9A%D0%A3%D0%90%D0%9B%D0%98%D0%A2%D0%98":MAILTO:equalityskopje@gmail.com
END:VEVENT
BEGIN:VEVENT
DTSTART;TZID=UTC:20250614T150000
DTEND;TZID=UTC:20250614T230000
DTSTAMP:20260419T141234
CREATED:20250523T143907Z
LAST-MODIFIED:20250603T094400Z
UID:23871-1749913200-1749942000@if.equality.agency
SUMMARY:INFUSION БАЗАР - ВИБРАЦИИТЕ НА МУЗИКАТА И ГЕЈМИНГ КУЛТУРАТА
DESCRIPTION:inFusion Базарот претставува уникатен дел од inFusion – 4. Фестивал на инклузија\, кој претставува платформа која обединува уметници\, креативци\, активисти\, локални компании и организации. Низ 4 фестивалски денови\, ќе се создаде простор за промоција на вредности и општествено одговорни креативци од областа на културата и сферите на општественото живеење. \ninFusion Базар – Вибрациите на музиката и гејминг културата ќе се одржи на 14 јуни 2025 година во Парк Македонија\, како вистинска фузија на модерната технологија\, музичката експресија и младинската енергија. Посетителите ќе имаат можност да се запознаат со иновативни гејминг производи\, презентирани од локални гејминг компании\, да испробаат нови игри\, како и да поразговараат со креаторите на истите. Истовремено\, во рамки на базарот\, млади артисти\, бендови и музичари ќе имаат можност пред посетителите да го промовираат своето творештво\, обединувајќи ги различните генерации преку универзалниот јазик на музиката. \n  \n*ОТВОРЕН ПОВИК ЗА УЧЕСТВО* \nЗдружението Икуалити го отвора повикот за пријавување на заинтересирани креативци и музичари да бидат дел од  inFusion Базарот во рамки на  inFusion Фестивалот кој ќе се одржи од 11 до 15 јуни 2025 год. во Парк Македонија (Општина Кисела Вода). \n14.06.2025г. | 15:00 – 23:00 \nПарк Македонија\, Општина Кисела Вода \n  \nУСЛОВИ ЗА УЧЕСТВО \n–локални компании и креатори на игри \n-млади музичари\, артисти и бендови \nШТО ДОБИВАТЕ? \nАко изработувате дигитални и друштвени игри или сте млад артист/бенд и сакате да ги промовирате вашите иницијативи\, ова е одлична можност да се претставите пред пошироката јавност во инспиративна и инклузивна атмосфера\, во рамки на фестивалските денови од 12 до 15 јуни 2025г.  \nКАКО ДА УЧЕСТВУВАТЕ? \nПријавете се преку формата подолу или на електронска пошта: equalityskopje@gmail.com  со посочување на име\, презиме\, контакт број и кратка биографија. \n  \nКраен рок за пријавување е заклучно со 06 јуни 2025 година. \nПристапност:\n             \n  \nПРИЈАВИ СЕ!\n\n\n  \n\n\n\n\n\n\n\n\n\n\n	\n		\n			\n			 \n		\n		\n			\n			 \n		\n	\n	\n		\n			\n			 \n		\n		\n			\n			 \n		\n	\n	\n		\n			📎 Прикачи кратка биографија\n\n			 \n		\n	\n	Се согласувам моите податоци да бидат собрани и зачувани.\n	 \n\n\n\n \n 
URL:https://if.equality.agency/event/infusion-%d0%b1%d0%b0%d0%b7%d0%b0%d1%80-%d0%b2%d0%b8%d0%b1%d1%80%d0%b0%d1%86%d0%b8%d0%b8%d1%82%d0%b5-%d0%bd%d0%b0-%d0%bc%d1%83%d0%b7%d0%b8%d0%ba%d0%b0%d1%82%d0%b0-%d0%b8-%d0%b3%d0%b5%d1%98%d0%bc/
LOCATION:ПАРК МАКЕДОНИЈА\, Frank Harkort Maning\, Skopje 1000\, СКОПЈЕ\, Македонија
CATEGORIES:Базар,Гејминг,Повици
ATTACH;FMTTYPE=image/jpeg:https://if.equality.agency/wp-content/uploads/2025/05/МУЗИКА-И-ГЕЈМИНГ-scaled.jpg
ORGANIZER;CN="%D0%97%D0%94%D0%A0%D0%A3%D0%96%D0%95%D0%9D%D0%98%D0%95 %D0%98%D0%9A%D0%A3%D0%90%D0%9B%D0%98%D0%A2%D0%98":MAILTO:equalityskopje@gmail.com
END:VEVENT
BEGIN:VEVENT
DTSTART;TZID=UTC:20250614T100000
DTEND;TZID=UTC:20250614T150000
DTSTAMP:20260419T141234
CREATED:20250523T143713Z
LAST-MODIFIED:20250603T094614Z
UID:23868-1749895200-1749913200@if.equality.agency
SUMMARY:INFUSION БАЗАР - АКТИВИЗАМ И КУЛТУРА
DESCRIPTION:inFusion Базарот претставува уникатен дел од inFusion – 4. Фестивал на инклузија\, кој претставува платформа која обединува уметници\, креативци\, активисти\, локални компании и организации. Низ 4 фестивалски денови\, ќе се создаде простор за промоција на вредности и општествено одговорни креативци од областа на културата и сферите на општественото живеење. \ninFusion Базар – Активизам и култура ќе се одржува од 12 до 14 јуни 2025 година\, во Паркот Македонија (Општина Кисела Вода) и има за цел да обедини креативци од заедницата на лица со попреченост\, општествено одговорни организации и локални бизниси. Посетителите ќе имаат можност да уживаат во промоција на уникатни рачни изработки\, уметнички дела\, органски производи и инспиративни иницијативи. Дводневниот базар ќе понуди широка платформа на култура\, активизам и автентично изразување\, поттикнувајќи креативно изразување во насока на позитивни општествени промени. \n  \n*ОТВОРЕН ПОВИК ЗА УЧЕСТВО* \nЗдружението Икуалити го отвора повикот за пријавување на заинтересирани креативци и организации да бидат дел од  inFusion Базарот во рамки на  inFusion Фестивалот кој ќе се одржи од 11 до 15 јуни 2025 год. во Парк Македонија (Општина Кисела Вода). \n14.06.2025г. | 10:00 – 15:00 \nПарк Македонија\,Општина Кисела Вода \n  \nУСЛОВИ ЗА УЧЕСТВО \n-индивидуалци – креативци и уметници \n-креативци од заедницата на лица со попречености \n–организации и поединци со општествено одговорни мисии \n–локални бизниси за органски производи \nШТО ДОБИВАТЕ? \nАко изработувате рачни изработки и дела\, декоративни предмети\, природни или органски производи и сакате да ги промовирате вашите иницијативи\, ова е одлична можност да се претставите пред пошироката јавност во инспиративна и инклузивна атмосфера\, во рамки на фестивалските денови од 12 до 15 јуни 2025г.  \nКАКО ДА УЧЕСТВУВАТЕ? \nПријавете се преку формата подолу или на електронска пошта: equalityskopje@gmail.com  со посочување на име\, презиме\, контакт број и кратка биографија како и ден и тематските базари во кои сакате да учествувате. \n  \nКраен рок за пријавување е заклучно со 06 јуни 2025 година. \nПристапност:\n          \n  \nПРИЈАВИ СЕ!\n\n\n  \n\n\n\n\n\n\n\n\n\n\n	\n		\n			\n			 \n		\n		\n			\n			 \n		\n	\n	\n		\n			\n			 \n		\n		\n			\n			 \n		\n	\n	\n		\n			📎 Прикачи кратка биографија\n\n			 \n		\n	\n	Се согласувам моите податоци да бидат собрани и зачувани.\n	 \n\n\n\n \n 
URL:https://if.equality.agency/event/infusion-%d0%b1%d0%b0%d0%b7%d0%b0%d1%80-%d0%b0%d0%ba%d1%82%d0%b8%d0%b2%d0%b8%d0%b7%d0%b0%d0%bc-%d0%b8-%d0%ba%d1%83%d0%bb%d1%82%d1%83%d1%80%d0%b0-3/
LOCATION:ПАРК МАКЕДОНИЈА\, Frank Harkort Maning\, Skopje 1000\, СКОПЈЕ\, Македонија
CATEGORIES:Базар,Повици
ATTACH;FMTTYPE=image/jpeg:https://if.equality.agency/wp-content/uploads/2025/05/АКТИВИЗАМ-И-КУЛТУРА-scaled.jpg
ORGANIZER;CN="%D0%97%D0%94%D0%A0%D0%A3%D0%96%D0%95%D0%9D%D0%98%D0%95 %D0%98%D0%9A%D0%A3%D0%90%D0%9B%D0%98%D0%A2%D0%98":MAILTO:equalityskopje@gmail.com
END:VEVENT
BEGIN:VEVENT
DTSTART;TZID=UTC:20250613T130000
DTEND;TZID=UTC:20250613T220000
DTSTAMP:20260419T141234
CREATED:20250523T141942Z
LAST-MODIFIED:20250603T095438Z
UID:23844-1749819600-1749852000@if.equality.agency
SUMMARY:INFUSION БАЗАР - АКТИВИЗАМ И КУЛТУРА
DESCRIPTION:inFusion Базарот претставува уникатен дел од inFusion – 4. Фестивал на инклузија\, кој претставува платформа која обединува уметници\, креативци\, активисти\, локални компании и организации. Низ 4 фестивалски денови\, ќе се создаде простор за промоција на вредности и општествено одговорни креативци од областа на културата и сферите на општественото живеење\, преку три тематски платформи. \ninFusion Базар – Активизам и култура ќе се одржува од 12 до 14 јуни 2025 година\, во Паркот Македонија (Општина Кисела Вода) и има за цел да обедини креативци од заедницата на лица со попреченост\, општествено одговорни организации и локални бизниси. Посетителите ќе имаат можност да уживаат во промоција на уникатни рачни изработки\, уметнички дела\, органски производи и инспиративни иницијативи. Дводневниот базар ќе понуди широка платформа на култура\, активизам и автентично изразување\, поттикнувајќи креативно изразување во насока на позитивни општествени промени. \n13.06.2025г. | 13:00 – 22:00\nПарк Македонија\, Општина Кисела Вода \n  \n*ОТВОРЕН ПОВИК ЗА УЧЕСТВО* \nЗдружението Икуалити го отвора повикот за пријавување на заинтересирани креативци и организации да бидат дел од  inFusion Базарот во рамки на  inFusion Фестивалот кој ќе се одржи од 11 до 15 јуни 2025 год. во Парк Македонија (Општина Кисела Вода). \n  \nУСЛОВИ ЗА УЧЕСТВО \n-индивидуалци – креативци и уметници \n-креативци од заедницата на лица со попречености \n–организации и поединци со општествено одговорни мисии \n–локални бизниси за органски производи \nШТО ДОБИВАТЕ? \nАко изработувате рачни изработки и дела\, декоративни предмети\, природни или органски производи\, дигитални и друштвени игри или сте млад артист/бенд и сакате да ги промовирате вашите иницијативи\, ова е одлична можност да се претставите пред пошироката јавност во инспиративна и инклузивна атмосфера\, во рамки на фестивалските денови од 12 до 15 јуни 2025г.  \nКАКО ДА УЧЕСТВУВАТЕ? \nПријавете се преку формата подолу или на електронска пошта: equalityskopje@gmail.com  со посочување на име\, презиме\, контакт број и кратка биографија како и ден и тематските базари во кои сакате да учествувате. \n  \nКраен рок за пријавување е заклучно со 06 јуни 2025 година. \nПристапност:\n                 \n  \nПРИЈАВИ СЕ!\n\n\n  \n\n\n\n\n\n\n\n\n\n\n	\n		\n			\n			 \n		\n		\n			\n			 \n		\n	\n	\n		\n			\n			 \n		\n		\n			\n			 \n		\n	\n	\n		\n			📎 Прикачи кратка биографија\n\n			 \n		\n	\n	Се согласувам моите податоци да бидат собрани и зачувани.\n	 \n\n\n\n \n 
URL:https://if.equality.agency/event/infusion-%d0%b1%d0%b0%d0%b7%d0%b0%d1%80-%d0%b0%d0%ba%d1%82%d0%b8%d0%b2%d0%b8%d0%b7%d0%b0%d0%bc-%d0%b8-%d0%ba%d1%83%d0%bb%d1%82%d1%83%d1%80%d0%b0-2/
LOCATION:ПАРК МАКЕДОНИЈА\, Frank Harkort Maning\, Skopje 1000\, СКОПЈЕ\, Македонија
CATEGORIES:Базар,Повици
ATTACH;FMTTYPE=image/jpeg:https://if.equality.agency/wp-content/uploads/2025/05/БАЗАР-13-scaled.jpg
ORGANIZER;CN="%D0%97%D0%94%D0%A0%D0%A3%D0%96%D0%95%D0%9D%D0%98%D0%95 %D0%98%D0%9A%D0%A3%D0%90%D0%9B%D0%98%D0%A2%D0%98":MAILTO:equalityskopje@gmail.com
END:VEVENT
BEGIN:VEVENT
DTSTART;TZID=UTC:20250612T130000
DTEND;TZID=UTC:20250612T220000
DTSTAMP:20260419T141234
CREATED:20250523T135952Z
LAST-MODIFIED:20250603T100414Z
UID:23820-1749733200-1749765600@if.equality.agency
SUMMARY:INFUSION БАЗАР - АКТИВИЗАМ И КУЛТУРА
DESCRIPTION:inFusion Базарот претставува уникатен дел од inFusion – 4. Фестивал на инклузија\, кој претставува платформа која обединува уметници\, креативци\, активисти\, локални компании и организации. Низ 4 фестивалски денови\, ќе се создаде простор за промоција на вредности и општествено одговорни креативци од областа на културата и сферите на општественото живеење\, преку три тематски платформи. \ninFusion Базар – Активизам и култура ќе се одржува од 12 до 14 јуни 2025 година\, во Паркот Македонија (Општина Кисела Вода) и има за цел да обедини креативци од заедницата на лица со попреченост\, општествено одговорни организации и локални бизниси. Посетителите ќе имаат можност да уживаат во промоција на уникатни рачни изработки\, уметнички дела\, органски производи и инспиративни иницијативи. Дводневниот базар ќе понуди широка платформа на култура\, активизам и автентично изразување\, поттикнувајќи креативно изразување во насока на позитивни општествени промени. \n12.06.2025г. | 13:00 – 22:00\nПарк Македонија\, Општина Кисела Вода \n  \n*ОТВОРЕН ПОВИК ЗА УЧЕСТВО* \nЗдружението Икуалити го отвора повикот за пријавување на заинтересирани креативци и организации да бидат дел од  inFusion Базарот во рамки на  inFusion Фестивалот кој ќе се одржи од 11 до 15 јуни 2025 год. во Парк Македонија (Општина Кисела Вода). \n  \nУСЛОВИ ЗА УЧЕСТВО \n-индивидуалци – креативци и уметници \n-креативци од заедницата на лица со попречености \n–организации и поединци со општествено одговорни мисии \n–локални бизниси за органски производи \nШТО ДОБИВАТЕ? \nАко изработувате рачни изработки и дела\, декоративни предмети\, природни или органски производи\, дигитални и друштвени игри или сте млад артист/бенд и сакате да ги промовирате вашите иницијативи\, ова е одлична можност да се претставите пред пошироката јавност во инспиративна и инклузивна атмосфера\, во рамки на фестивалските денови од 12 до 15 јуни 2025г.  \nКАКО ДА УЧЕСТВУВАТЕ? \nПријавете се преку формата подолу или на електронска пошта: equalityskopje@gmail.com  со посочување на име\, презиме\, контакт број и кратка биографија како и ден и тематските базари во кои сакате да учествувате. \n  \nКраен рок за пријавување е заклучно со 06 јуни 2025 година. \nПристапност:\n                 \n  \nПРИЈАВИ СЕ!\n\n\n  \n\n\n\n\n\n\n\n\n\n\n	\n		\n			\n			 \n		\n		\n			\n			 \n		\n	\n	\n		\n			\n			 \n		\n		\n			\n			 \n		\n	\n	\n		\n			📎 Прикачи кратка биографија\n\n			 \n		\n	\n	Се согласувам моите податоци да бидат собрани и зачувани.\n	 \n\n\n\n \n 
URL:https://if.equality.agency/event/infusion-%d0%b1%d0%b0%d0%b7%d0%b0%d1%80-%d0%b0%d0%ba%d1%82%d0%b8%d0%b2%d0%b8%d0%b7%d0%b0%d0%bc-%d0%b8-%d0%ba%d1%83%d0%bb%d1%82%d1%83%d1%80%d0%b0/
LOCATION:ПАРК МАКЕДОНИЈА\, Frank Harkort Maning\, Skopje 1000\, СКОПЈЕ\, Македонија
CATEGORIES:Базар,Повици
ATTACH;FMTTYPE=image/jpeg:https://if.equality.agency/wp-content/uploads/2025/05/БАЗАР-scaled.jpg
ORGANIZER;CN="%D0%97%D0%94%D0%A0%D0%A3%D0%96%D0%95%D0%9D%D0%98%D0%95 %D0%98%D0%9A%D0%A3%D0%90%D0%9B%D0%98%D0%A2%D0%98":MAILTO:equalityskopje@gmail.com
END:VEVENT
END:VCALENDAR