BEGIN:VCALENDAR
VERSION:2.0
PRODID:-//inFusion - ECPv6.13.1//NONSGML v1.0//EN
CALSCALE:GREGORIAN
METHOD:PUBLISH
X-ORIGINAL-URL:https://if.equality.agency/en
X-WR-CALDESC:Events for inFusion
REFRESH-INTERVAL;VALUE=DURATION:PT1H
X-Robots-Tag:noindex
X-PUBLISHED-TTL:PT1H
BEGIN:VTIMEZONE
TZID:UTC
BEGIN:STANDARD
TZOFFSETFROM:+0000
TZOFFSETTO:+0000
TZNAME:UTC
DTSTART:20250101T000000
END:STANDARD
END:VTIMEZONE
BEGIN:VEVENT
DTSTART;TZID=UTC:20250615T110000
DTEND;TZID=UTC:20250615T190000
DTSTAMP:20260420T115826
CREATED:20250523T144654Z
LAST-MODIFIED:20250526T195451Z
UID:23883-1749985200-1750014000@if.equality.agency
SUMMARY:ПИКНИК ЗА ДРУШТВЕНИ ИГРИ
DESCRIPTION:Во рамки на inFusion – 4. Фестивал на инклузија\, на 14 и 15 јуни\, ве покануваме на незаборавен Пикник за друштвени игри\, кој ќе се одржи во зелената и пријатна атмосфера на Паркот Македонија. \nВреме за одмор\, релаксација и квалитетно дружење со блиските и пријателите. Донесете ги вашите омилени друштвени игри\, прострете ќебе на тревата и уживајте во позитивна атмосфера. За оние што сакаат да пробаат нешто ново – во паркот ќе можете да се запознаете со уникатни и креативни игри од локални производители. \nРазменете игри\, споделете смеа\, и создадете нови пријателства! \n15.06.2025г. | 11:00 до 19:00 часот \nПарк Македонија\, Општина Кисела Вода \nПристапност:\n            
URL:https://if.equality.agency/en/event/%d0%bf%d0%b8%d0%ba%d0%bd%d0%b8%d0%ba-%d0%b7%d0%b0-%d0%b4%d1%80%d1%83%d1%88%d1%82%d0%b2%d0%b5%d0%bd%d0%b8-%d0%b8%d0%b3%d1%80%d0%b8-2/
CATEGORIES:Chill
ATTACH;FMTTYPE=image/jpeg:https://if.equality.agency/wp-content/uploads/2025/05/PIKNIK-22222-scaled.jpg
END:VEVENT
BEGIN:VEVENT
DTSTART;TZID=UTC:20250615T100000
DTEND;TZID=UTC:20250615T113000
DTSTAMP:20260420T115826
CREATED:20250523T144154Z
LAST-MODIFIED:20250526T195131Z
UID:23874-1749981600-1749987000@if.equality.agency
SUMMARY:ЈОГА СО ЦЕНТАРОТ ART OF LIVING И МЕДИТАЦИЈА СО ГЕРЕ
DESCRIPTION:Последниот inFusion фестивалски ден ќе започне со освестување на телото и умот преку јога и медитација на отворено. Сите посетители\, на 15 јуни\, од 10 до 11:30 часот во Парк Македонија ќе можат да се приклучат на оваа активност и да го започнат денот со енергија и во мир. \nПрвиот дел од сесијата ќе биде воден од тимот на центарот Art of Living\, кои ќе понудат практични вежби за јога\, вклучително и адаптирани техники за лица со различни видови на попреченост\, овозможувајќи им на сите учесници да се вклучат во интегрирани групи и да уживаат во бенефитите од оваа енергична метода. \nПо јога сесијата\, ќе следи водена медитација со Гере Трипков од Здружение Икуалити. Овој дел ќе овозможи длабока релаксација\, ослободување од стрес и внатрешно смирување\, како подготовка за богатата програма што ќе следи во текот на фестивалскиот ден. \nАктивноста има за цел да ја промовира грижата за себе и да го поттикне заедништвото преку заедничко движење и тишина. \nПристапност:\n              
URL:https://if.equality.agency/en/event/%d1%98%d0%be%d0%b3%d0%b0-%d1%81%d0%be-%d1%86%d0%b5%d0%bd%d1%82%d0%b0%d1%80%d0%be%d1%82-art-of-living-%d0%b8-%d0%bc%d0%b5%d0%b4%d0%b8%d1%82%d0%b0%d1%86%d0%b8%d1%98%d0%b0-%d1%81%d0%be-%d0%b3%d0%b5%d1%80/
LOCATION:ПАРК МАКЕДОНИЈА\, Frank Harkort Maning\, Skopje 1000\, СКОПЈЕ\, Македонија
CATEGORIES:Chill,Јога,Спорт
ATTACH;FMTTYPE=image/jpeg:https://if.equality.agency/wp-content/uploads/2025/05/ЈОГА-scaled.jpg
ORGANIZER;CN="%D0%97%D0%94%D0%A0%D0%A3%D0%96%D0%95%D0%9D%D0%98%D0%95 %D0%98%D0%9A%D0%A3%D0%90%D0%9B%D0%98%D0%A2%D0%98 %D0%98 ART OF LIVING":MAILTO:equalityskopje@gmail.com
END:VEVENT
BEGIN:VEVENT
DTSTART;TZID=UTC:20250614T100000
DTEND;TZID=UTC:20250614T230000
DTSTAMP:20260420T115826
CREATED:20250523T143020Z
LAST-MODIFIED:20250526T194925Z
UID:23856-1749895200-1749942000@if.equality.agency
SUMMARY:ПИКНИК ЗА ДРУШТВЕНИ ИГРИ
DESCRIPTION:Во рамки на inFusion – 4. Фестивал на инклузија\, на 14 и 15 јуни\, ве покануваме на целодневен незаборавен Пикник за друштвени игри\, кој ќе се одржи во зелената и пријатна атмосфера на Паркот Македонија. \nВреме за одмор\, релаксација и квалитетно дружење со блиските и пријателите. Донесете ги вашите омилени друштвени игри\, прострете ќебе на тревата и уживајте во позитивна атмосфера. За оние што сакаат да пробаат нешто ново – во паркот ќе можете да се запознаете со уникатни и креативни игри од локални производители. \nРазменете игри\, споделете смеа\, и создадете нови пријателства! \n14.06.2025г. | 10:00 до 23:00 часот \nПарк Македонија\, Општина Кисела Вода \nПристапност:\n          
URL:https://if.equality.agency/en/event/%d0%bf%d0%b8%d0%ba%d0%bd%d0%b8%d0%ba-%d0%b7%d0%b0-%d0%b4%d1%80%d1%83%d1%88%d1%82%d0%b2%d0%b5%d0%bd%d0%b8-%d0%b8%d0%b3%d1%80%d0%b8/
LOCATION:ПАРК МАКЕДОНИЈА\, Frank Harkort Maning\, Skopje 1000\, СКОПЈЕ\, Македонија
CATEGORIES:Chill,Гејминг
ATTACH;FMTTYPE=image/jpeg:https://if.equality.agency/wp-content/uploads/2025/05/PIKNIK-scaled.jpg
ORGANIZER;CN="%D0%97%D0%94%D0%A0%D0%A3%D0%96%D0%95%D0%9D%D0%98%D0%95 %D0%98%D0%9A%D0%A3%D0%90%D0%9B%D0%98%D0%A2%D0%98":MAILTO:equalityskopje@gmail.com
END:VEVENT
BEGIN:VEVENT
DTSTART;TZID=UTC:20250614T100000
DTEND;TZID=UTC:20250614T180000
DTSTAMP:20260420T115826
CREATED:20250523T142513Z
LAST-MODIFIED:20250526T194851Z
UID:23850-1749895200-1749924000@if.equality.agency
SUMMARY:КАФЕ - ДЏ - КНИГА
DESCRIPTION:Викенд. \nОмилена книга\, музика и кафе со пријателите во сенките на Парк Македонија. \nНа 14 јуни\, од 10 до 18 часот\, inFusion Фестивалот ви дава можност да дојдете на одлична дружба во пријатна атмосфера. Да уживаме во викендот со позитивни вибрации\, заедно. \nПонесете ја вашата книга и најдобриот пријател\, или пак дојдете со вашето милениче\, послужете се со кафе и уживајте во тревниците на паркот во музичкиот репертоар на нашите ДЏ-и. \nПристапност:\n               
URL:https://if.equality.agency/en/event/%d0%ba%d0%b0%d1%84%d0%b5-%d0%b4%d1%9f-%d0%ba%d0%bd%d0%b8%d0%b3%d0%b0/
LOCATION:ПАРК МАКЕДОНИЈА\, Frank Harkort Maning\, Skopje 1000\, СКОПЈЕ\, Македонија
CATEGORIES:Chill,Музика
ATTACH;FMTTYPE=image/jpeg:https://if.equality.agency/wp-content/uploads/2025/05/КАФЕ-scaled.jpg
ORGANIZER;CN="%D0%97%D0%94%D0%A0%D0%A3%D0%96%D0%95%D0%9D%D0%98%D0%95 %D0%98%D0%9A%D0%A3%D0%90%D0%9B%D0%98%D0%A2%D0%98":MAILTO:equalityskopje@gmail.com
END:VEVENT
BEGIN:VEVENT
DTSTART;TZID=UTC:20250614T100000
DTEND;TZID=UTC:20250614T110000
DTSTAMP:20260420T115826
CREATED:20250523T142329Z
LAST-MODIFIED:20250526T194753Z
UID:23847-1749895200-1749898800@if.equality.agency
SUMMARY:УТРИНСКИ ВИБРАЦИИ - ЛАТИНО ТАНЦИ ЗА БУДЕЊЕ
DESCRIPTION:Започнете го денот со енергија\, ритам и насмевка! Во рамки на MUSIC денот\, на inFusion – 4. Фестивал на инклузија\, ве покануваме на динамична и весела активност за будење преку утринските вибрации на латино танците. \nНа 14 јуни\, од 10 до 11 часот во Парк Македонија\, Академија Рекреатива ќе ве води низ едночасовна сесија исполнета со латино ритами и позитивна енергија. Оваа активност е наменета за сите возрасти и способности\, а целта е да го раздвижиме телото\, да го подигнеме расположението и да го започнеме денот со музика и позитивни вибрации. \nПреку звуците на латино музиката\, учесниците ќе имаат можност да се разбудат на креативен начин\, уживајќи во заедничко движење. \nНе е потребно претходно танцово искуство – само желба за танцување и позитивна енергија! \nПодгответе се за ден исполнет со позитивни вибрации\, ритам и радост! \nПристапност:\n      
URL:https://if.equality.agency/en/event/%d1%83%d1%82%d1%80%d0%b8%d0%bd%d1%81%d0%ba%d0%b8-%d0%b2%d0%b8%d0%b1%d1%80%d0%b0%d1%86%d0%b8%d0%b8-%d0%bb%d0%b0%d1%82%d0%b8%d0%bd%d0%be-%d1%82%d0%b0%d0%bd%d1%86%d0%b8-%d0%b7%d0%b0-%d0%b1%d1%83%d0%b4/
LOCATION:ПАРК МАКЕДОНИЈА\, Frank Harkort Maning\, Skopje 1000\, СКОПЈЕ\, Македонија
CATEGORIES:Chill,Спорт,Танц
ATTACH;FMTTYPE=image/jpeg:https://if.equality.agency/wp-content/uploads/2025/05/ЛАТИНО-ТАНЦИ-scaled.jpg
ORGANIZER;CN="%D0%97%D0%94%D0%A0%D0%A3%D0%96%D0%95%D0%9D%D0%98%D0%95 %D0%98%D0%9A%D0%A3%D0%90%D0%9B%D0%98%D0%A2%D0%98 %D0%98 %D0%90%D0%9A%D0%90%D0%94%D0%95%D0%9C%D0%98%D0%88%D0%90 %D0%A0%D0%95%D0%9A%D0%A0%D0%95%D0%90%D0%A2%D0%98%D0%92%D0%90":MAILTO:equalityskopje@gmail.com
END:VEVENT
END:VCALENDAR